BEGIN:VCALENDAR
VERSION:2.0
X-WR-CALNAME:www.indybay.org
PRODID:-//indybay/ical// v1.0//EN
BEGIN:VEVENT
UID:Indybay-62803
SEQUENCE:62803
CREATED:20050411T184800Z
DESCRIPTION:The Coalition for Justice in the Middle East, the Muslim Student Awareness 
 Network, and the Organization of Arab Students at Stanford University 
 present:     A Portrait of an Ex-Political Prisoner: An ex-political 
 prisoner will narrate his personal experience incarcerated and the current 
 situation of Palestinians.  CHECK OUT OUR ENTIRE MONTH OF EVENTS!  
 cjme.stanford.edu  msan.stanford.edu\n 
 https://www.indybay.org/newsitems/2005/04/11/62803.php
SUMMARY:A Portrait of an Ex-Political Prisoner in Palestine
LOCATION:Stanford University, Building 200, Room 002  
 http://campus-map.stanford.edu/campus_map/results.jsp?bldg=200&dept=&addr=  
 cjme.stanford.edu
URL:https://www.indybay.org/newsitems/2005/04/11/62803.php
DTSTART:20050415T023000Z
DTEND:20050415T033000Z
END:VEVENT
END:VCALENDAR
