BEGIN:VCALENDAR
VERSION:2.0
X-WR-CALNAME:www.indybay.org
PRODID:-//indybay/ical// v1.0//EN
BEGIN:VEVENT
UID:Indybay-62313
SEQUENCE:62313
CREATED:20050406T013000Z
DESCRIPTION:  Award-Winning Film Traces Brazil’s Landless Movement  	Bay Area Friends 
 of the MST and Marin Interfaith Task Force on the Americas present “The 
 Landless, On the Roads of America.” The film was awarded ‘Best 
 Documentary’ in Spain’s 2004 Malaga Film Festival. It describes the 
 rise of Brazil’s Landless Movement (MST) from its founding in 1984 to the 
 2002 election of Brazil’s first working class president, Luis Inacio Lula 
 da Silva (Lula).    The screening is scheduled for Friday, April 22, 7:30 
 p.m. at the First United Methodist Church, 9 Ross Valley Drive (at Fourth 
 St), San Rafael.  A $5-10 donation is requested. No one turned away for 
 lack of funds. Wheelchair accessible. Refreshments will be served. For more 
 information: 415/924-3227, mitf@igc.org, http://www.mitfamericas.org.  ###  
 \n https://www.indybay.org/newsitems/2005/04/05/62313.php
SUMMARY:The Landless, On the Roads of America
LOCATION:First United Methodist Church  9 Ross Valley Dr (at Fourth St)  San Rafael
URL:https://www.indybay.org/newsitems/2005/04/05/62313.php
DTSTART:20050423T023000Z
DTEND:20050423T043000Z
END:VEVENT
END:VCALENDAR
