BEGIN:VCALENDAR
VERSION:2.0
X-WR-CALNAME:www.indybay.org
PRODID:-//indybay/ical// v1.0//EN
BEGIN:VEVENT
UID:Indybay-62263
SEQUENCE:62263
CREATED:20050405T182700Z
DESCRIPTION:The Tranny Roadshow is a multimedia performance art extravaganza, which 
 will be touring the country in the spring of this year. It is composed of 
 an eclectic group of artists, each one self-identified as transgender, and 
 includes poets, rappers, filmmakers, storytellers, breakdancers, rock 
 bands, comedians, actors, folk singers, photographers, zinesters, and more. 
 Stationary art (i.e. photography and sculpture) will be on display, but 
 most of the presentation is the live show, a unique variety show where the 
 expression of gender and the expression of self are inseparable.  $5-10 
 Benefits Free Mind Media http://www.freemindmedia.org\n 
 https://www.indybay.org/newsitems/2005/04/05/62263.php
SUMMARY:The Tranny Roadshow
LOCATION: 804 Bennett Valley Road (off Santa Rosa Ave.) 
URL:https://www.indybay.org/newsitems/2005/04/05/62263.php
DTSTART:20050407T030000Z
DTEND:20050407T060000Z
END:VEVENT
END:VCALENDAR
