BEGIN:VCALENDAR
VERSION:2.0
X-WR-CALNAME:www.indybay.org
PRODID:-//indybay/ical// v1.0//EN
BEGIN:VEVENT
UID:Indybay-6223
SEQUENCE:6223
CREATED:20040203T182500Z
DESCRIPTION:Michael Parenti, author of the new book "The Terrorism Trap: September 11 
 and Beyond"  \nspeaks on "Terrorism, Imperialism and Conspiracy" in a 
 benefit for the Peace and \nFreedom Party Voter Registration Drive. 
 Donation $10.00. Tickets available from the\nPeace & Freedom web site, 
 http://www.peaceandfreedom.org, or at the door. Doors open\n7:00 P.M.\n 
 https://www.indybay.org/newsitems/2004/02/03/6223.php
SUMMARY:Michael Parenti: "Terrorism, Imperialism and Conspiracy"
LOCATION:St. Joseph the Worker Church, 1640 Addison Street
URL:https://www.indybay.org/newsitems/2004/02/03/6223.php
DTSTART:20020426T023000Z
DTEND:20020426T043000Z
END:VEVENT
END:VCALENDAR
