BEGIN:VCALENDAR
VERSION:2.0
X-WR-CALNAME:www.indybay.org
PRODID:-//indybay/ical// v1.0//EN
BEGIN:VEVENT
UID:Indybay-62193
SEQUENCE:62193
CREATED:20050404T050900Z
DESCRIPTION:Join San Bruno Mountain Watch, The City of Brisbane, The California Native 
 Plant Society and The Friends of San Bruno Mountain for the second annual 
 City Broom Bash.  Volunteers will be helping to steward City-owned habitat 
 in the spectacular Brisbane Acres.  Last year's event was a huge success; 
 help us make this year even better. Call for information regarding exact 
 location.  http://www.mountainwatch.org\n 
 https://www.indybay.org/newsitems/2005/04/03/62193.php
SUMMARY:Earth Day Broom Bash
LOCATION:Call for information regarding exact location, 415.467.6631
URL:https://www.indybay.org/newsitems/2005/04/03/62193.php
DTSTART:20050423T160000Z
DTEND:20050423T230000Z
END:VEVENT
END:VCALENDAR
