BEGIN:VCALENDAR
VERSION:2.0
X-WR-CALNAME:www.indybay.org
PRODID:-//indybay/ical// v1.0//EN
BEGIN:VEVENT
UID:Indybay-62133
SEQUENCE:62133
CREATED:20050402T224900Z
DESCRIPTION:This is a Benefit Concert for Made in Palestine Art Exhibition that opens 
 at the SomArts on Thursday, April 7th. Rami Khalife is a young Lebanese 
 piano virtuoso whose improvisational talents leave one mesmerized, 
 stimulated, stunned, and transformed. It is a musical and artistic 
 experience not to be missed. Rami Khalife's reputation is quickly spreading 
 across the globe. Not to be missed. \n 
 https://www.indybay.org/newsitems/2005/04/02/62133.php
SUMMARY:Rami Khalife Piano Concert
LOCATION:SomArt Gallery  934 Brannan Street  San Francisco
URL:https://www.indybay.org/newsitems/2005/04/02/62133.php
DTSTART:20050417T023000Z
DTEND:20050417T043000Z
END:VEVENT
END:VCALENDAR
