BEGIN:VCALENDAR
VERSION:2.0
X-WR-CALNAME:www.indybay.org
PRODID:-//indybay/ical// v1.0//EN
BEGIN:VEVENT
UID:Indybay-6203
SEQUENCE:6203
CREATED:20040203T182400Z
DESCRIPTION:For Immediate Release: April 8, 2002\nContact: Renee at (415) 
 553-3404\n\nSan Francisco’s Day Laborers Invite You to March with Them to 
 Resist INS Raids, Police Abuse and INS/Police Collaboration!\n\nIn recent 
 weeks, Bay Area cities have experienced a dramatic increase in INS and 
 Police enforcement activities.  The INS has arrested and deported local 
 airport workers and is raiding immigrants’ homes.  The SFPD has been 
 moving day laborers off the street and giving them citations for minor 
 infractions.  The Department of Justice is now pushing for local police to 
 have the same authority as the INS to arrest and deport immigrants.  WE 
 CAN’T SIT BY AND WATCH IT HAPPEN!\n\nWhen: Monday, April 15, 
 10:00\nWhere: We’ll meet at 850 Bryant and march from the Police Station 
 to the INS Building (630 Sansome).\n\nFor more information contact Renee at 
 (415)553-3404 or (415)252-5375.\n 
 https://www.indybay.org/newsitems/2004/02/03/6203.php
SUMMARY:March Against INS & Police Collaboration
LOCATION:Meet at 850 Bryant Police Station and March to 630 Sansome INS Building
URL:https://www.indybay.org/newsitems/2004/02/03/6203.php
DTSTART:20020415T170000Z
DTEND:20020415T180000Z
END:VEVENT
END:VCALENDAR
