BEGIN:VCALENDAR
VERSION:2.0
X-WR-CALNAME:www.indybay.org
PRODID:-//indybay/ical// v1.0//EN
BEGIN:VEVENT
UID:Indybay-6183
SEQUENCE:6183
CREATED:20040203T182500Z
DESCRIPTION:People's Earth Day is an \nEnvironmental Justice, Green Energy and 
 Community Health Fair\n\nFeatures music, food, kids' activities, 
 information and a Community Protest at the \nPG&E Hunters Point Power 
 Plant!\n\nSponsored by Literacy for Environmental Justice, Bayview Hunter's 
 Point Community Advocates\nand Greenaction for Health & Environmental 
 Justice\n\nFor more info: http://www.greenaction.org\n 
 https://www.indybay.org/newsitems/2004/02/03/6183.php
SUMMARY:People's Earth Day
LOCATION:India Basin Park\nBayview Hunter's Point
URL:https://www.indybay.org/newsitems/2004/02/03/6183.php
DTSTART:20020420T180000Z
DTEND:20020421T000000Z
END:VEVENT
END:VCALENDAR
