BEGIN:VCALENDAR
VERSION:2.0
X-WR-CALNAME:www.indybay.org
PRODID:-//indybay/ical// v1.0//EN
BEGIN:VEVENT
UID:Indybay-61663
SEQUENCE:61663
CREATED:20050330T064100Z
DESCRIPTION:Artists for Social and Political Awareness Present:  Four nationally 
 renowned religious and spiritual leaders speaking about difference and 
 commonality, justice  and compassion, interfaith coalitions, the 
 progressive spiritual voice and a redefinition of “moral” values.   
 Ibrahim Farajajé is an Islamic scholar and  Dean of the Starr King 
 ministry school at  the Graduate Theological Union.  Rev. Dr. Mark Wilson 
 is an ordained American Baptist  Minister and the Assistant Professor in 
 Ministry and Congregational Leadership at the Pacific School of Religion.   
 Yvonne Rand is a meditation teacher and a  lay householder priest in the 
 Soto Zen Buddhist tradition. She has studied with Suzuki  Roshi and His 
 Holiness the Dalai Lama, among others.   Rabbi David J. Cooper is the 
 spiritual leader  of Kehilla Community Synagogue, a politically 
 progressive, spiritually oriented congregation in Piedmont\n\nOur events 
 are always free and open to the public!\n 
 https://www.indybay.org/newsitems/2005/03/29/61663.php
SUMMARY:Interfaith Panel Discussion
LOCATION:California College of Arts and Crafts  Nahl Hall  5212 Broadway, Oakland
URL:https://www.indybay.org/newsitems/2005/03/29/61663.php
DTSTART:20050409T013000Z
DTEND:20050409T033000Z
END:VEVENT
END:VCALENDAR
