BEGIN:VCALENDAR
VERSION:2.0
X-WR-CALNAME:www.indybay.org
PRODID:-//indybay/ical// v1.0//EN
BEGIN:VEVENT
UID:Indybay-61523
SEQUENCE:61523
CREATED:20050328T205700Z
DESCRIPTION:Plan Will Let TICs Automatically Bypass City's Condo Conversion Law; Tics 
 Created Through Evictions of Senior, Disabled or Catastrophically Ill 
 Tenants Will Get To Bypass Eviction Protections In Condo Law  Supervisors 
 Hearing March 30, 1:00 PM, City Hall (Room 263)  Proposed Legislation 
 Rewards Landlords For Evicting Tenants; Ellis Evictions Will Soar  The Land 
 Use Committee of the Board of Supervisors will hold a hearing on 
 legislation which will let landlords who create Tics through the Ellis Act 
 automatically become condominium subdivisions—without having to follow 
 the city's condo conversion law. In addition to increasing the rate of 
 Ellis evictions, the legislation will provide a simple way for landlords to 
 repeal rent control from buildings by use state law exempting condominiums 
 from rent control. Dufty & Alioto-Pier also seek to exempt Tics from 
 eviction protections designed to limit the evictions of senior, disabled, 
 or catastrophically ill tenants. Their legislation will encourage the use 
 of the Ellis Act to create more Tics and condominiums.\nread more: 
 http://www.indybay.org/news/2005/03/1730059.php\n 
 https://www.indybay.org/newsitems/2005/03/28/61523.php
SUMMARY:SF Supes Consider TIC's Bypassing of City's Condo Conversion Law
LOCATION:Supervisors Hearing March 30, 1:00 PM, City Hall (Room 263)
URL:https://www.indybay.org/newsitems/2005/03/28/61523.php
DTSTART:20050330T210000Z
DTEND:20050330T230000Z
END:VEVENT
END:VCALENDAR
