BEGIN:VCALENDAR
VERSION:2.0
X-WR-CALNAME:www.indybay.org
PRODID:-//indybay/ical// v1.0//EN
BEGIN:VEVENT
UID:Indybay-61413
SEQUENCE:61413
CREATED:20050327T064500Z
DESCRIPTION:Join a major protest against Gov. Arnold Schwarzenegger at one of his 
 exlusive fundraising events.  Read more at 
 http://www.calnurse.org/files.calnurse.org/assets/0305_April5SFRally_Flyer.pdf\n 
 https://www.indybay.org/newsitems/2005/03/26/61413.php
SUMMARY:SF Rally to Protest Gov. Schwarzenegger
LOCATION:outside of Ritz Carlton, at Stockton and California
URL:https://www.indybay.org/newsitems/2005/03/26/61413.php
DTSTART:20050406T010000Z
DTEND:20050406T030000Z
END:VEVENT
END:VCALENDAR
