BEGIN:VCALENDAR
VERSION:2.0
X-WR-CALNAME:www.indybay.org
PRODID:-//indybay/ical// v1.0//EN
BEGIN:VEVENT
UID:Indybay-61363
SEQUENCE:61363
CREATED:20050326T141500Z
DESCRIPTION:The weekly meeting of the Board of Supervisors starts at 2 p.m. and has 3 
 items on the Agenda concerning a moratorium on medical marijuana being sold 
 in San Francisco.  One item is scheduled to be heard at 5 p.m.  If you can 
 get there before 5 p.m., please do so.  The pretext for the moratorium is a 
 pot club in a welfare hotel.  The reality is we have a group of 1 Green 
 Party member and 10 Democrats who are determined to restore the Fascist 
 Fifties with opposition to the public will of the voters of San Francisco, 
 who voted 78% for Prop 215 in 1996.  See  
 http://vote96.ss.ca.gov/Vote96/html/vote/prop/page.961218083528.html   and 
 the county color map at:   
 http://vote96.ss.ca.gov/Vote96/html/vote/prop/prop-215.961218083528.html   
 and the comment at:  On the 3/29/05 agenda, Item 35, heard at 5 p.m., is 
 Green Party Member Mirkarimi's reactionary proposal.  See:  
 http://www.sfgov.org/site/uploadedfiles/bdsupvrs/bosagendas/a032905.htm   
 For similar Items 28 and 29, see the same 3/29/05 Agenda.    For further 
 explanations and what you can do, see:  
 http://www.indybay.org/news/2005/03/1729679.php  Be sure to tell the Board 
 of Supervisors we not only support the pot club being in the welfare hotel, 
 we are proud of the leadership San Francisco has provided on this issue in 
 California and we plan to remain in the leadership of this state against 
 the phony war on drugs, better known as a war on the workingclass.  If this 
 Board of Supervisors does not want to lead, they should all resign now.\n 
 https://www.indybay.org/newsitems/2005/03/26/61363.php
SUMMARY:Oppose Moratorium on SF Pot Clubs
LOCATION:Board of Supervisors Chambers, City Hall, Polk and McAllister Streets, San 
 Francisco. Near Van Ness and Civic Center Muni Metro & BART stations.
URL:https://www.indybay.org/newsitems/2005/03/26/61363.php
DTSTART:20050330T010000Z
DTEND:20050330T030000Z
END:VEVENT
END:VCALENDAR
