BEGIN:VCALENDAR
VERSION:2.0
X-WR-CALNAME:www.indybay.org
PRODID:-//indybay/ical// v1.0//EN
BEGIN:VEVENT
UID:Indybay-61123
SEQUENCE:61123
CREATED:20050323T204200Z
DESCRIPTION:High School seniors from Sacramento and the surrounding counties were asked 
 to write a 500 word essay in response to the John F. Kennedy quote: "War 
 will exist until that distant day when the conscientious objector enjoys 
 the same reputation and prestige that the warrior does today."  The top ten 
 students will read aloud their essays, which will be scored and ranked by a 
 panel of judges from the community.  A total of $5,000 will be awarded in 
 prize money.\n https://www.indybay.org/newsitems/2005/03/23/61123.php
SUMMARY:PSR Scholarship Essay Finals
LOCATION:Hinde Auditorium at Sacramento State University
URL:https://www.indybay.org/newsitems/2005/03/23/61123.php
DTSTART:20050501T010000Z
DTEND:20050501T030000Z
END:VEVENT
END:VCALENDAR
