BEGIN:VCALENDAR
VERSION:2.0
X-WR-CALNAME:www.indybay.org
PRODID:-//indybay/ical// v1.0//EN
BEGIN:VEVENT
UID:Indybay-61013
SEQUENCE:61013
CREATED:20050322T204800Z
DESCRIPTION:World Premieres! New music based on the peace poetry of internationally 
 renowned zen painter, calligrapher, author and peace activist, Kaz 
 Tanahashi, founder of A World Without Armies: The Costa Rica Initiative.   
 Performers: classical and choral composer Robert Kyr with Shira Kammen; 
 songwriters Betsy Rose, Judith-Kate Friedman with Evelie Delfino Såles 
 Posch, Bodhi Setchko, Karuna Tanahashi; the trio of Edie Hartshorne, Nicole 
 Milner & PhoeBe ANNE sorgen. MC: Wes (Scoop) Nisker.      The concert will 
 be recorded for a CD.  \n 
 https://www.indybay.org/newsitems/2005/03/22/61013.php
SUMMARY:Imagining Peace CONCERT
LOCATION:The Freight & Salvage, 1111 Addison St.  near San Pablo (just off 
 Univerisity Ave. exit)
URL:https://www.indybay.org/newsitems/2005/03/22/61013.php
DTSTART:20050404T030000Z
DTEND:20050404T150000Z
END:VEVENT
END:VCALENDAR
