BEGIN:VCALENDAR
VERSION:2.0
X-WR-CALNAME:www.indybay.org
PRODID:-//indybay/ical// v1.0//EN
BEGIN:VEVENT
UID:Indybay-60923
SEQUENCE:60923
CREATED:20050322T085100Z
DESCRIPTION:MATT GONZALEZ, former San Francisco Mayoral candidate and Green Party 
 activist; and STEVE JACOBSON, longtime activist and creator of the series 
 \"So How\'d You Become an Activist?\" - appearing April 8 in the monthly 
 series, \"So How\'d You Become an Activist?\" (also discussing \"So What Do 
 We Do Now?\")  \n https://www.indybay.org/newsitems/2005/03/22/60923.php
SUMMARY:Matt Gonzalez and Steve Jacobson on activism
LOCATION:Berkeley Fellowship of Unitarian Universalists; 1924 Cedar St. (at Bonita), 
 Berkeley
URL:https://www.indybay.org/newsitems/2005/03/22/60923.php
DTSTART:20050409T020000Z
DTEND:20050409T040000Z
END:VEVENT
END:VCALENDAR
