BEGIN:VCALENDAR
VERSION:2.0
X-WR-CALNAME:www.indybay.org
PRODID:-//indybay/ical// v1.0//EN
BEGIN:VEVENT
UID:Indybay-60753
SEQUENCE:60753
CREATED:20050319T055700Z
DESCRIPTION:The Tranny Roadshow and Cross-Gender Caravan are coming to town!  Friday, 
 April 8  7pm  New College of CA  766 Valencia St.  (b/wn 18th and 19th)  
 Two tours, two hours, ten performers: music, spoken word, films,  visual 
 art, +++!  Cross-Gender Caravan:   Tennessee Jones, Charlie Anders, Carolyn 
 Connelly, and the Urban  Hermitt.  Tranny Roadshow:   Katastrophe, Sherilyn 
 Connelly, solidad decosta, Kat Esperanza, Judy  Jordan, seeley quest(MC), 
 Kelly Shortandqueer, Jamez Terry, Shawna  Virago, Eli Wise Co-sponsored by 
 Soft Skull Press and Modern Times  Bookstore for full description, bios, 
 and photos, see attatched  press release.  \n 
 https://www.indybay.org/newsitems/2005/03/18/60753.php
SUMMARY:The Tranny Roadshow and Cross-Gender Caravan
LOCATION:New College of CA  766 Valencia St.  (b/wn 18th and 19th)  
URL:https://www.indybay.org/newsitems/2005/03/18/60753.php
DTSTART:20050409T020000Z
DTEND:20050409T040000Z
END:VEVENT
END:VCALENDAR
