BEGIN:VCALENDAR
VERSION:2.0
X-WR-CALNAME:www.indybay.org
PRODID:-//indybay/ical// v1.0//EN
BEGIN:VEVENT
UID:Indybay-60453
SEQUENCE:60453
CREATED:20050316T230100Z
DESCRIPTION:UFPJ BA is meeting at 18th & Dolores with the panels that represent the 
 dead in Iraq. Iraqi Civilians & troops alike.\n 
 https://www.indybay.org/newsitems/2005/03/16/60453.php
SUMMARY:United for Peace & Justice -BA Meeting for March 20 Mobe
LOCATION:Meet at the corner of 18th and Dolores
URL:https://www.indybay.org/newsitems/2005/03/16/60453.php
DTSTART:20050320T183000Z
DTEND:20050320T213000Z
END:VEVENT
END:VCALENDAR
