BEGIN:VCALENDAR
VERSION:2.0
X-WR-CALNAME:www.indybay.org
PRODID:-//indybay/ical// v1.0//EN
BEGIN:VEVENT
UID:Indybay-60423
SEQUENCE:60423
CREATED:20050316T075200Z
DESCRIPTION:Contact us for location details. See you bright and early on Friday morning 
 -- "Out of Iraq Now!"\n 
 https://www.indybay.org/newsitems/2005/03/15/60423.php
SUMMARY:Anti-war morning commute bannering
LOCATION:San Francisco and East Bay. Email or call for meet up details.
URL:https://www.indybay.org/newsitems/2005/03/15/60423.php
DTSTART:20050318T143000Z
DTEND:20050318T173000Z
END:VEVENT
END:VCALENDAR
