BEGIN:VCALENDAR
VERSION:2.0
X-WR-CALNAME:www.indybay.org
PRODID:-//indybay/ical// v1.0//EN
BEGIN:VEVENT
UID:Indybay-60293
SEQUENCE:60293
CREATED:20050314T211600Z
DESCRIPTION:Pregnant Women\'s Altered Book Workshop #1  Come and explore pregnancy and 
 birth through Visual Journaling. Bring a book to be altered. What does that 
 mean? It means we will cut, paste, paint and collage inside the book to 
 create a unique visual journal/altered book that reflects your experience 
 of pregnancy. You  need no art or journaling experience, we will not be 
 coloring inside the lines. This is the time to go wild, let loose and give 
 birth to the feelings inside.  Treesa is a Birth and Postpartum Doula, who 
 loves to “do” art with women. She has been in a women’s art group for 
 many years and would love to share that experience with you. Lets grow a 
 community of moms and artists and have fun.  This group will meet Tuesday 
 evenings April 12 to May 3rd and is $125 for the series or $40 for drop in. 
 I will provide the basic supplies. Just bring a hardback book to alter and 
 any art supplies you\'d like to use. Collage kits and books suitable for 
 altering will also be  available to purchase if you would like.Treesa 
 Mclean 510-728-8513 treesa.mclean@sbcglobal.net  \n 
 https://www.indybay.org/newsitems/2005/03/14/60293.php
SUMMARY:Pregnant Women\'s Altered Book Group
LOCATION:Change Makers  510-655-2405  6536 Telegraph Ave   Oakland  Between Ashby 
 and Alcatraz   on the east side of the street  
URL:https://www.indybay.org/newsitems/2005/03/14/60293.php
DTSTART:20050413T020000Z
DTEND:20050413T030000Z
END:VEVENT
END:VCALENDAR
