BEGIN:VCALENDAR
VERSION:2.0
X-WR-CALNAME:www.indybay.org
PRODID:-//indybay/ical// v1.0//EN
BEGIN:VEVENT
UID:Indybay-60153
SEQUENCE:60153
CREATED:20050312T052900Z
DESCRIPTION:Join us when you can. We stand vigil each Friday to protest the ongoing 
 Israeli occupation of Palestine; the murder of Palestinian adults and 
 children, International Solidarity Workers and reporters, the torture of 
 Palestinian and Arab prisoners including children, people often held for 
 very long periods with no council and no charges, the bulldozing of homes, 
 olive groves and other agricultural lands, the stealing of the water 
 supplies and the building of Jewish only settlements and roads and the huge 
 apartheid Wall built on more stolen Palestinian lands. None of these 
 Israeli government policies can possibly lead to a just peace no matter how 
 you stretch your imagination! \n 
 https://www.indybay.org/newsitems/2005/03/11/60153.php
SUMMARY:Berkeley Women in Black Weekly Vigil
LOCATION:Bancroft & Telegraph
URL:https://www.indybay.org/newsitems/2005/03/11/60153.php
DTSTART:20050318T200000Z
DTEND:20050318T210000Z
END:VEVENT
END:VCALENDAR
