BEGIN:VCALENDAR
VERSION:2.0
X-WR-CALNAME:www.indybay.org
PRODID:-//indybay/ical// v1.0//EN
BEGIN:VEVENT
UID:Indybay-60003
SEQUENCE:60003
CREATED:20050310T173100Z
DESCRIPTION:Chris Carlsson ("Processed World", "The Political Edge") publicy launches 
 his new journal on contemporary forms of labor activism, 'Heads Up!". His 
 presentation is illustrated by copious video clips of creative actions by 
 the emerging class of part-time and "intellectual laborers"--the 
 Cognitariat.  He is joined by Natasha Moss-Dedrick, with some local 
 proposals. Opening the program are two cultural workers who have documented 
 the signs of the resistance on the very streets on our cities: 
 Chicago-based Josh MacPhee ("Stencil Pirates") narrates a 40-min.slide show 
 of sidewalk art, whie Iggy Scam contributes a short overview of populist 
 "wet-cement engravings". $5.  Free wine, bread, and roses.\n 
 https://www.indybay.org/newsitems/2005/03/10/60003.php
SUMMARY:OTHER CINEMA's "THE NEW REVOLT"
LOCATION:ATA Gallery, 992 Valencia Street   (at 21st St., in the Mission District)
URL:https://www.indybay.org/newsitems/2005/03/10/60003.php
DTSTART:20050320T043000Z
DTEND:20050320T063000Z
END:VEVENT
END:VCALENDAR
