BEGIN:VCALENDAR
VERSION:2.0
X-WR-CALNAME:www.indybay.org
PRODID:-//indybay/ical// v1.0//EN
BEGIN:VEVENT
UID:Indybay-59723
SEQUENCE:59723
CREATED:20050307T064000Z
DESCRIPTION:in honor of intl wimmins day..broadcasting wimmins issues/music from 6 am 
 -10 pm on community radio station out of nevada city,ca.\n 
 https://www.indybay.org/newsitems/2005/03/06/59723.php
SUMMARY:intl wimmins day broadcast
LOCATION:kvmr 89.5 fm ,http://www.kvmr.org,539-265-9073 (265-9555 studio)
URL:https://www.indybay.org/newsitems/2005/03/06/59723.php
DTSTART:20050307T140000Z
DTEND:20050308T060000Z
END:VEVENT
END:VCALENDAR
