BEGIN:VCALENDAR
VERSION:2.0
X-WR-CALNAME:www.indybay.org
PRODID:-//indybay/ical// v1.0//EN
BEGIN:VEVENT
UID:Indybay-59223
SEQUENCE:59223
CREATED:20050302T074400Z
DESCRIPTION:6pm Cafe Night: Benefit for Cog Bicycle lending library        Several 
 short films will be presented at 6:00, followed by a general discussion and 
 a vegan dinner at 7:30\n 
 https://www.indybay.org/newsitems/2005/03/01/59223.php
SUMMARY:Bike Library Benefit
LOCATION:The Long Haul is a not-for-profit radical community space at 3124 Shattuck 
 Ave., two blocks east of the Ashby BART station.
URL:https://www.indybay.org/newsitems/2005/03/01/59223.php
DTSTART:20050307T020000Z
DTEND:20050307T050000Z
END:VEVENT
END:VCALENDAR
