BEGIN:VCALENDAR
VERSION:2.0
X-WR-CALNAME:www.indybay.org
PRODID:-//indybay/ical// v1.0//EN
BEGIN:VEVENT
UID:Indybay-59203
SEQUENCE:59203
CREATED:20050302T073200Z
DESCRIPTION:SUPPORT FORMER LEVITZ FURNITURE STORE EMPLOYEES WHO WERE FIRED FOR BEING  
 LATINO!  On Friday, March 4, 11:00 am, at 3199 Alvarado, in San Leandro,  
 about 40 immigrant workers will have a press conference and picket in front 
  of the San Leandro Levitz store.   Take 880 South, Marina Blvd.. East 
 Exit,  Right on Teagarden St, R on Alvarado.\n 
 https://www.indybay.org/newsitems/2005/03/01/59203.php
SUMMARY:SUPPORT FORMER LEVITZ FURNITURE STORE WORKERS
LOCATION:San Leandro Levitz store.   Take 880 South, Marina Blvd.. East Exit,  Right 
 on Teagarden St, R on Alvarado.
URL:https://www.indybay.org/newsitems/2005/03/01/59203.php
DTSTART:20050304T190000Z
DTEND:20050304T200000Z
END:VEVENT
END:VCALENDAR
