BEGIN:VCALENDAR
VERSION:2.0
X-WR-CALNAME:www.indybay.org
PRODID:-//indybay/ical// v1.0//EN
BEGIN:VEVENT
UID:Indybay-5913
SEQUENCE:5913
CREATED:20040203T182500Z
DESCRIPTION:After 12 years the lwasuit brought by Judi Bari and others against the FBI 
 and the Oakland Police for civil rights violations growing our of a 1990 
 car bombing is set for trial April 8th in Oakland Federal Court.  During 
 the trial which will last 6-8 weeks a series of events are scheduled to 
 keep people informed and to rally support.  April 18th the Bay Area 
 Industrial Workers of the World present Wobblies on trial: the roots of 
 government repression.  A look back at government attacks on the IWW during 
 a period of war hysteria and anti labor attacks in 1917-18.\n\nThe program 
 features well known IWW folksinger Faith Petric and outspoken word troupe 
 Molotov Mouths.  +an update on the trial and a disscussion of IWW history 
 during a previous war.\n$5-15 but no one turned away for lack of 
 funds.\nFood Not Bombs serves starting at 6pm!\n 
 https://www.indybay.org/newsitems/2004/02/03/5913.php
SUMMARY:A Benefit for the Judi Bari lawsuit against the FBI
LOCATION:Humanist Hall\n390 27th St\nOakland (near Broadway)
URL:https://www.indybay.org/newsitems/2004/02/03/5913.php
DTSTART:20020419T020000Z
DTEND:20020419T030000Z
END:VEVENT
END:VCALENDAR
