BEGIN:VCALENDAR
VERSION:2.0
X-WR-CALNAME:www.indybay.org
PRODID:-//indybay/ical// v1.0//EN
BEGIN:VEVENT
UID:Indybay-5903
SEQUENCE:5903
CREATED:20040203T182500Z
DESCRIPTION:Join others to demonstrate your opposition to "the war with no end."\n 
 https://www.indybay.org/newsitems/2004/02/03/5903.php
SUMMARY:Weekly LMNOP walk @ Lake Merritt in Oakland
LOCATION:Starts & ends near colonnade between Grand & Lakeshore Avenues.  Close to 
 Grand Lake Theater & Grand & Lakeshore offramps from 580 freeway.  For 
 transit info & a map check-out the web-site at http://www.webwm.com/LMNOP
URL:https://www.indybay.org/newsitems/2004/02/03/5903.php
DTSTART:20020414T220000Z
DTEND:20020415T000000Z
END:VEVENT
END:VCALENDAR
