BEGIN:VCALENDAR
VERSION:2.0
X-WR-CALNAME:www.indybay.org
PRODID:-//indybay/ical// v1.0//EN
BEGIN:VEVENT
UID:Indybay-58913
SEQUENCE:58913
CREATED:20050226T152500Z
DESCRIPTION:\n\n  \n      \n    \n      \n        Looking to meet\n        up with new 
 & old friends?\n        Share delicious vegetarian foods?\n        Find 
 support and community?\n        Then join us!\n        \n      Monthly San 
 Francisco Dinner\n        Thursday, Mar 31st\n           at \n        
 Shangri-La Vegetarian Restaurant\n        Irving & 21st Street, SF\n        
 This is\n        a wonderful opportunity to share an awesome vegan dinner 
 with friendly\n        folks.  I've picked my favorite dishes to share 
 with you. \n        It's a 9-course dinner for $15, tax & tip included.  
 This is\n        not a drop-in event.  RSVPs are needed.\n        Click 
 here\n        for more information or to RSVP \n        for this special 
 event. \n        \n      \n        Other\n        Bay Area Veg Monthly 
 Dinners:\n        Oakland (3rd Sunday)\n        Palo Alto (2nd Tuesday)\n 
 San Francisco (2nd Wednesday, 3rd Friday)\n        San Jose (2nd 
 Saturday)\n        Marin (2nd Tuesday)\n      \n      \n      Details for 
 these events & more on Event\n      Calendar\n       Or join one of our 
 mailing lists to receive regular announcements \n        \n    \n    \n    
 \n  \n\n\n  \n    \n      \n        Who is Bay\n        Area Vegetarians?\n 
        Established in\n        October 2001, we are a 100%\n        
 volunteer, no fees, plant-powered organization with over 1500 members\n     
    throughout the Bay Area and even a few abroad.  Our mission is to 
 connect and support\n        the local vegetarian and animal rights 
 community and help it\n        grow.  \n        What types\n        of 
 activities does BAV do? \n        Unlike many\n        organizations with 
 "vegetarian" in their name, we offer a wide\n        range of activities, 
 from purely  social events like monthly dinners to\n        hikes to 
 camping trips, as well as  educational events -- lectures and\n        
 workshops, community outreach, and advocacy events, like KFC\n        
 protests and letter writing parties\n        With thanks to\n        our 
 strong volunteer base, we have over 15 events\n        happening every 
 month, throughout the Bay Area.\n        Why do we offer\n        free 
 membership to our group? \n         Because we want the local veg community 
 to\n        be accessible to everyone, and we have a strong volunteer base. 
 \n\n\nWe invite you to be an active part of our community. Click here\nto 
 see our events page for upcoming events, or learn about 
 volunteer\nopportunities.\n        \n\n\nJoin us... help us plant the seeds 
 for compassion and good health in the Bay\nArea! \n        \n\n\nVisit our 
 website for more information or to start your free membership today!\n 
 http://www.BayAreaVeg.org\n\n\n      \n    \n      \n  \n  \n  \n\n\n 
 https://www.indybay.org/newsitems/2005/02/26/58913.php
SUMMARY:Vegan Community Dinner
LOCATION:Irving & 21st Street, SF; Shangri-La is accessible by public transit! Muni 
 bus 71 or the N-Judah. Please visit the muni website or call 415-673-6864 
 for helpful planning advice (live, if you call during business hours)  
URL:https://www.indybay.org/newsitems/2005/02/26/58913.php
DTSTART:20050401T020000Z
DTEND:20050401T040000Z
END:VEVENT
END:VCALENDAR
