BEGIN:VCALENDAR
VERSION:2.0
X-WR-CALNAME:www.indybay.org
PRODID:-//indybay/ical// v1.0//EN
BEGIN:VEVENT
UID:Indybay-5873
SEQUENCE:5873
CREATED:20040203T182300Z
DESCRIPTION:Go to http://www.peoplesmarch.org for details.  Ralph Nader will keynote!\n 
 https://www.indybay.org/newsitems/2004/02/03/5873.php
SUMMARY:People's March for Economic Justice
LOCATION:Santa Barbara, CA
URL:https://www.indybay.org/newsitems/2004/02/03/5873.php
DTSTART:20020427T190000Z
DTEND:20020428T000000Z
END:VEVENT
END:VCALENDAR
