BEGIN:VCALENDAR
VERSION:2.0
X-WR-CALNAME:www.indybay.org
PRODID:-//indybay/ical// v1.0//EN
BEGIN:VEVENT
UID:Indybay-58533
SEQUENCE:58533
CREATED:20050223T034700Z
DESCRIPTION:Artists for Social and Political Awareness (ASPA) present:\n\na screening 
 of the Bay Area’s hottest new independent, political videos courtesty of 
 Street Level TV plus a presentation about the organization.\n\nStreet Level 
 TV a socially conscious, independent, non-commercial news program that 
 provides outlets for and information on environmental, social, and economic 
 justice movements, as well as other politically relevant content. The 
 organization focuses on media produced in the Bay Area with content that 
 reaches beyond it. Street Level TV strives to give voice to those less 
 often heard, while also keeping a sense of humor.\n\n our events are always 
 free and open to the public! \n 
 https://www.indybay.org/newsitems/2005/02/22/58533.php
SUMMARY:Street Level TV
LOCATION:California College of Arts and Crafts  Nahl Hall  5212 Broadway, Oakland
URL:https://www.indybay.org/newsitems/2005/02/22/58533.php
DTSTART:20050226T023000Z
DTEND:20050226T043000Z
END:VEVENT
END:VCALENDAR
