BEGIN:VCALENDAR
VERSION:2.0
X-WR-CALNAME:www.indybay.org
PRODID:-//indybay/ical// v1.0//EN
BEGIN:VEVENT
UID:Indybay-58383
SEQUENCE:58383
CREATED:20050221T201000Z
DESCRIPTION:From Abortion Rights to Social Justice:   Building the Movement for 
 Reproductive Freedom   April 1-3,2005  Hampshire College  Amherst, MA  
 Sponsored by the Civil Liberties and Public Policy Program and the 
 Population and Development Program  If you are committed to reproductive 
 rights and social justice, this is THE place to be the first weekend in 
 April.  For 18 years, people have gathered over this weekend at Hampshire 
 College to unite and rally for reproductive justice.  Each year, the 
 conference expands in scope and size and we now expect 500-600 participants 
 and offer over 30 workshops.  Conference speakers address reproductive 
 freedom as it relates to a broad range of social justice initiatives 
 including economic justice, healthcare reform, racial equality, peace, 
 freedom from violence, youth liberation, civil liberties, and LGBTQ rights. 
    Over the weekend, you will have an opportunity to learn and share 
 organizing experiences and strategies, broaden your understanding of 
 reproductive rights, and make the connections with other related movements 
 and issues.   The conference is completely free and open to everyone.  
 Whether you are a long time activist or are new to the movement, there is a 
 place for you here.  The conference is intended as a forum for learning and 
 networking for all ages, experiences, and background knowledge.  For more 
 info and to register, go to our website, http://clpp.hampshire.edu, or 
 e-mail us at clpp@hampshire.edu, or call us at 413-559-5416.  \n 
 https://www.indybay.org/newsitems/2005/02/21/58383.php
SUMMARY:Reproductive Rights Conference
LOCATION:Conference is held at Hampshire College in Amherst MA
URL:https://www.indybay.org/newsitems/2005/02/21/58383.php
DTSTART:20050402T020000Z
DTEND:20050404T020000Z
END:VEVENT
END:VCALENDAR
