BEGIN:VCALENDAR
VERSION:2.0
X-WR-CALNAME:www.indybay.org
PRODID:-//indybay/ical// v1.0//EN
BEGIN:VEVENT
UID:Indybay-583
SEQUENCE:583
CREATED:20040203T182500Z
DESCRIPTION:A talk will be given on the history of US imperialism in the Middle East 
 and an analysis of the current stituation followed by discussion by 
 audience. Sponsored by the International Socialist Organization at SF 
 State.\n https://www.indybay.org/newsitems/2004/02/03/583.php
SUMMARY:US out of Afghanistan
LOCATION:San Francisco State University\n19th and Holloway, SF\nroom c-114 
 (downstairs) \nin the Cesar Chavez Student Center.
URL:https://www.indybay.org/newsitems/2004/02/03/583.php
DTSTART:20011012T020000Z
DTEND:20011012T050000Z
END:VEVENT
END:VCALENDAR
