BEGIN:VCALENDAR
VERSION:2.0
X-WR-CALNAME:www.indybay.org
PRODID:-//indybay/ical// v1.0//EN
BEGIN:VEVENT
UID:Indybay-5733
SEQUENCE:5733
CREATED:20040203T182500Z
DESCRIPTION:Benefit dinner for Lorenzo Komboa Ervin's speaking tour featuring Lorenzo@ 
 Long Haul Infoshop, 3124 Shattuck Ave, Berkeley. Hosted by RACE 
 (http://passionbomb.com/race).\n 
 https://www.indybay.org/newsitems/2004/02/03/5733.php
SUMMARY:Lorenzo Komboa Ervin Cafe Night
LOCATION:Long Haul Infoshop, 3124 Shattuck Ave, Berkeley
URL:https://www.indybay.org/newsitems/2004/02/03/5733.php
DTSTART:20020325T030000Z
DTEND:20020325T050000Z
END:VEVENT
END:VCALENDAR
