BEGIN:VCALENDAR
VERSION:2.0
X-WR-CALNAME:www.indybay.org
PRODID:-//indybay/ical// v1.0//EN
BEGIN:VEVENT
UID:Indybay-57213
SEQUENCE:57213
CREATED:20050205T010200Z
DESCRIPTION:ABADÁ-Capoeira San Francisco Presents  Spirit of Brazil: Elements of Sound 
  A benefit for The Reaching All Youth Project  With artists Mestranda 
 Márcia Treidler, Brazilian Musician “Boa Voz,” Brazilian capoeirista 
 and singer “Instrutor Mobilia” and the ABADÁ-Capoeira San Francisco 
 Performance Ensemble  When:		-Friday, March 18th, 2005 8:00pm    
 	-Saturday, March 19th, 8:00pm    	-Sunday, March 20th, 4:00pm  
 Location:	Dance Mission Theater    	3316 24th Street (at Mission Street)    
 	San Francisco, California 94110  Contact:     	(415) 206-0650. Press 
 photos available at http://www.abada.org  Admission:	$15 Adults (Youth, 
 Senior, and Group Rates Available)    	$30 VIP Admission (Saturday Only) 
 includes pre-show cocktail party    	Purchase tickets at 
 http://www.abada.org or reserve by phone at 415-237-4633.  
 Program:	ABADÁ-Capoeira San Francisco (ACSF) will present Spirit of 
 Brazil: Elements of Sound, the third installment in ACSF’s  highly 
 acclaimed Spirit of Brazil concert series. Elements of Sound is an 
 exploration of the organic sounds that make up the Afro-Brazilian art of 
 Capoeira. The concert will bring Brazilian guest artists “Boa Voz,” the 
 first professional capoeira singer and musician, and Instructor 
 “Mobilia,” a well-known capoeirista and singer from Rio de Janeiro, 
 together with ACSF’s high-flying performers and Artistic Director 
 Mestranda Márcia Treidler’s original choreography to create an 
 audio-visual exploration of capoeira’s many dimensions, a show that is 
 both a demonstration of capoeira’s visual grace and a live concert of 
 traditional Brazilian music and song. Proceeds will benefit The RAY 
 (Reaching All Youth) Project, ACSF’s youth program providing free and 
 reduced price capoeira classes, performance opportunities, youth leadership 
 opportunities, artist training, and bi-annual health workshops to youth 
 aged 5-	19 from low-income families.  Website:	http://www.abada.org  
 Background: The mission of ABADA-Capoeira San Francisco (ACSF) is to 
 preserve, develop, and share the art of capoeira with integrity, and to use 
 capoeira to enrich disadvantaged communities and the lives of people from 
 all backgrounds. ACSF offers professional instruction and performance of 
 capoeira at its Mission based Brazilian Arts Center, and at over 30 sites 
 throughout the Bay Area. Founded in 1991 by master capoeira artist 
 Mestranda Márcia Treidler, ACSF seeks to inspire and empower people, 
 especially youth from disadvantaged backgrounds, to realize their full 
 potential as responsible, confident, productive citizens. By consistently 
 seeking out new creative ways of exploring and sharing the dynamic aspects 
 of the multi-faceted art of capoeira and related arts, ACSF remains a 
 pioneering force in the preservation and development of Brazilian cultural 
 arts.  \n https://www.indybay.org/newsitems/2005/02/04/57213.php
SUMMARY:Spirit of Brazil: Elements of Sound
LOCATION:3316 24th Street (@Mission St.)  San Francisco, CA 94110
URL:https://www.indybay.org/newsitems/2005/02/04/57213.php
DTSTART:20050320T040000Z
DTEND:20050320T060000Z
END:VEVENT
END:VCALENDAR
