BEGIN:VCALENDAR
VERSION:2.0
X-WR-CALNAME:www.indybay.org
PRODID:-//indybay/ical// v1.0//EN
BEGIN:VEVENT
UID:Indybay-57093
SEQUENCE:57093
CREATED:20050203T232300Z
DESCRIPTION:Thursday February 3, 6:30 p.m.        Bay Area International Development 
 Organizations, Child Family Health International, Foundation for 
 Sustainable Development, International Development Exchange, and the World 
 Affairs Council present an update on Haiti, reviewing the current situation 
 and ongoing challenges in the troubled -- and usually ignored -- country. 
 World Affairs Council, 312 Sutter St., 2nd Floor, San Francisco. $7. For 
 information call 415/293-4600.\n 
 https://www.indybay.org/newsitems/2005/02/03/57093.php
SUMMARY:AN UPDATE ON HAITI
LOCATION:World Affairs Council, 312 Sutter St., 2nd Floor, San Francisco. $7.
URL:https://www.indybay.org/newsitems/2005/02/03/57093.php
DTSTART:20050204T023000Z
DTEND:20050204T043000Z
END:VEVENT
END:VCALENDAR
