BEGIN:VCALENDAR
VERSION:2.0
X-WR-CALNAME:www.indybay.org
PRODID:-//indybay/ical// v1.0//EN
BEGIN:VEVENT
UID:Indybay-56943
SEQUENCE:56943
CREATED:20050203T133800Z
DESCRIPTION:Dr. Hatem Bazian  Prominent Palestinian American Lecturer in Near Eastern 
 and Ethnic Studies at UC Berkeley  Speaking on the topic of:  "The Security 
 State: The “New” COINTELPRO Campaign  Directed at Arabs, Muslims and 
 Southeast Asians"    generous Question & Answer session will follow    7:00 
 - 9:30pm (lecture will probably start around 7:10 or so)    Dr. Bazian is 
 an extremely knowledgeable, very popular, incisive, witty and lively public 
 lecturer  (typically on the topics of Palestine/Mideast;   war & peace; and 
 human rights & civil liberties)  - you won't fall asleep, that's for sure!  
   Donation: $3 - $10, sliding scale  (No one turned away for lack of funds) 
  \n https://www.indybay.org/newsitems/2005/02/03/56943.php
SUMMARY:A Public Lecture: DR. HATEM BAZIAN
LOCATION:UC Berkeley Campus  Dwinelle Hall auditorium (Rm 145) - main entrance 
 lobby\n=========================================\n (just beyond Sather 
 Gate,  northwest off Sproul Plaza  just off Telegraph & 
 Bancroft.)=================================  (inexpensive public parking 
 garage available  between Channing and Durant  near Telegraph; street 
 parking  also available)  
URL:https://www.indybay.org/newsitems/2005/02/03/56943.php
DTSTART:20050204T030000Z
DTEND:20050204T050000Z
END:VEVENT
END:VCALENDAR
