BEGIN:VCALENDAR
VERSION:2.0
X-WR-CALNAME:www.indybay.org
PRODID:-//indybay/ical// v1.0//EN
BEGIN:VEVENT
UID:Indybay-56523
SEQUENCE:56523
CREATED:20050128T102000Z
DESCRIPTION:The official name for this forum is:  "REPORT ON RECENT PACIFICA NATIONAL 
 BOARD MEETING AND RECENT KPFA ISSUES"  There will surely be lively 
 discussion.  http://peoplesradio.net/  \n 
 https://www.indybay.org/newsitems/2005/01/28/56523.php
SUMMARY:What's Happening at KPFA and Pacifica?
LOCATION:Humanist Hall, 390 27th Street, Oakland  (between Telegraph Ave. & 
 Broadway)  
URL:https://www.indybay.org/newsitems/2005/01/28/56523.php
DTSTART:20050130T033000Z
DTEND:20050130T053000Z
END:VEVENT
END:VCALENDAR
