BEGIN:VCALENDAR
VERSION:2.0
X-WR-CALNAME:www.indybay.org
PRODID:-//indybay/ical// v1.0//EN
BEGIN:VEVENT
UID:Indybay-56263
SEQUENCE:56263
CREATED:20050127T050400Z
DESCRIPTION:  What: Motion to dismiss  When: Friday January 28th @ 9:00am  Where: 
 Superior Court 190 W. Hedding Street, Department 33,  San Jose, CA 05110  
 http://www.rudycardenas.net  justiceforrudy@hotmail.com  For more 
 information please contact Corina Cardenas:  Rina0514@netzero.net  \n 
 https://www.indybay.org/newsitems/2005/01/26/56263.php
SUMMARY:Motion to Dismiss Hearing in Rudy Cardenas Case
LOCATION:Where: Superior Court 190 W. Hedding Street, Department 33,  San Jose, CA 
 05110
URL:https://www.indybay.org/newsitems/2005/01/26/56263.php
DTSTART:20050128T170000Z
DTEND:20050128T190000Z
END:VEVENT
END:VCALENDAR
