BEGIN:VCALENDAR
VERSION:2.0
X-WR-CALNAME:www.indybay.org
PRODID:-//indybay/ical// v1.0//EN
BEGIN:VEVENT
UID:Indybay-55703
SEQUENCE:55703
CREATED:20050119T045200Z
DESCRIPTION:Herbicide use being considered    Oakland - The Wildlife Prevention 
 Assessment  District and Oakland Councilwoman Jean Quan are  sponsoring a 
 Town Hall Meeting to discuss the  possibility of using herbicides to help 
 prevent  wildfires in the Oakland hills.    Oakland currently prohibits use 
 under its Integrated  Pest Management Policy, according to Quan. The  
 district is proposing selective use of the poisons to  create fire-breaks 
 in the same areas devastated by a  1991 firestorm.    The Jan. 26 meeting 
 will be held at 7pm at Oakland  City Hall.\n 
 https://www.indybay.org/newsitems/2005/01/18/55703.php
SUMMARY:Herbicide Use to Be Considered by City of Oakland
LOCATION:Oakland City Hall
URL:https://www.indybay.org/newsitems/2005/01/18/55703.php
DTSTART:20050127T030000Z
DTEND:20050127T050000Z
END:VEVENT
END:VCALENDAR
