BEGIN:VCALENDAR
VERSION:2.0
X-WR-CALNAME:www.indybay.org
PRODID:-//indybay/ical// v1.0//EN
BEGIN:VEVENT
UID:Indybay-55673
SEQUENCE:55673
CREATED:20050119T034800Z
DESCRIPTION:BRIGHT LIGHTS AND CELEBRATIONS - HAPPY BIRTHDAY  January 25, ( exact day)  
 to toast Dorothy May (Jesse) who entered the  world under the planet MARS 
 overhead  during a ferocious snow storm in Boulder, Colorado  -- "John, 
 John" Pearl said, "drive faster" and the baby was born at  9:00 a.m. in the 
 town where the BEATS would later set down roots.  music & poems by Jesse  
 poetry by Frank Moore  surprise author guest  Tuesday, January 25, 2005  
 7pm  The Whole Note Series at  The Beanery  2925 COLLEGE AVE,  BERKELEY,CA 
 94705  contact Frank Moore  (510) 526-7858  fmoore@eroplay.com  
 http://www.eroplay.com  Jesse Beagle:  
 http://www.eroplay.com/feature/djb/index.html\n 
 https://www.indybay.org/newsitems/2005/01/18/55673.php
SUMMARY:BRIGHT LIGHTS AND CELEBRATIONS - HAPPY BIRTHDAY
LOCATION:just north of Ashby on College Ave.  2925 COLLEGE AVE,  BERKELEY,CA 94705
URL:https://www.indybay.org/newsitems/2005/01/18/55673.php
DTSTART:20050126T030000Z
DTEND:20050126T050000Z
END:VEVENT
END:VCALENDAR
