BEGIN:VCALENDAR
VERSION:2.0
X-WR-CALNAME:www.indybay.org
PRODID:-//indybay/ical// v1.0//EN
BEGIN:VEVENT
UID:Indybay-55663
SEQUENCE:55663
CREATED:20050119T014300Z
DESCRIPTION:Unhappy about the U.S. policy on militarism, stop paying your taxes.  More 
 than half of our federal  income taxes are being used for war. Find out 
 more about this form of conscientious objection at our  introductory 
 workshop.  Topics will include:  -- Creative legal protests  -- Refusing 
 to pay all or part of federal taxes and the possible consequences of this 
 form of civil disobedience  -- Living below the level of taxable income  -- 
 Phone tax resistance  -- Redirecting resisted taxes to local alternative 
 funds and/or community organizations  -- Local support networks for war tax 
 resisters  Northern California War Tax Resistance  (510) 843-9877 â€¢ 
 http://www.nowartax.org  Thank you for working for peace!   \n 
 https://www.indybay.org/newsitems/2005/01/18/55663.php
SUMMARY:War Tax Resistance Introductory Workshop
LOCATION:Palo Alto Friends Meeting House  957 Colorado Avenue  (Call 650-856-0744 
 for directions)  
URL:https://www.indybay.org/newsitems/2005/01/18/55663.php
DTSTART:20050312T170000Z
DTEND:20050312T200000Z
END:VEVENT
END:VCALENDAR
