BEGIN:VCALENDAR
VERSION:2.0
X-WR-CALNAME:www.indybay.org
PRODID:-//indybay/ical// v1.0//EN
BEGIN:VEVENT
UID:Indybay-55283
SEQUENCE:55283
CREATED:20050113T091800Z
DESCRIPTION:MATRIX OF EVIL  Presented by Erin McCann  Some of the best minds in the 
 country, coming from different sectors of the political spectrum, come 
 together in this film to expose an intricate web of deceitful wickedness 
 controlling America today.  This Alex Jone’s documentary contains footage 
 from speeches and conversations with Congressman Ron Paul, Colonel Craig 
 Roberts, Congresswoman Cynthia McKinney, Frank Morales, as well as Alex 
 Jones himself.   The film is FREE but $5 donations are accepted.  Before 
 and after the film, everyone’s invited to indulge in our Humanist Coffee 
 House\n https://www.indybay.org/newsitems/2005/01/13/55283.php
SUMMARY:MATRIX OF EVIL
LOCATION:Humanist Hall  390 27th Street  midtown Oakland  between Telegraph & 
 Broadway  below Pill Hill  parking next door off both 27th & 28th Streets
URL:https://www.indybay.org/newsitems/2005/01/13/55283.php
DTSTART:20050203T030000Z
DTEND:20050203T050000Z
END:VEVENT
END:VCALENDAR
