BEGIN:VCALENDAR
VERSION:2.0
X-WR-CALNAME:www.indybay.org
PRODID:-//indybay/ical// v1.0//EN
BEGIN:VEVENT
UID:Indybay-55063
SEQUENCE:55063
CREATED:20050110T233600Z
DESCRIPTION:Join us for eyewitness reports from Venezuela, Cuba, Brazil, and Chiapas 
 where the people’s struggle continues to confront the empire.  · 
 Analysis of the shift toward social democracies in Latin America and their 
 relationship to the U.S.   · Venezuela and Cuba – two governments 
 defying U.S. imperialist threats  · Indigenous movements in Latin America  
 Call 415-821-6545 for more info.  $3-$10 donation (no one turned away for 
 lack of funds)  Wheelchair accessible. Call to reserve free childcare.  \n 
 https://www.indybay.org/newsitems/2005/01/10/55063.php
SUMMARY:ANSWER Educational Forum “Latin America: Resisting the Empire”
LOCATION:3543 18th St. btwn Valencia and Guerrero
URL:https://www.indybay.org/newsitems/2005/01/10/55063.php
DTSTART:20050126T030000Z
DTEND:20050126T050000Z
END:VEVENT
END:VCALENDAR
