BEGIN:VCALENDAR
VERSION:2.0
X-WR-CALNAME:www.indybay.org
PRODID:-//indybay/ical// v1.0//EN
BEGIN:VEVENT
UID:Indybay-54393
SEQUENCE:54393
CREATED:20050120T222800Z
DESCRIPTION:Advocates will distribute information to students about the 40,000 animals 
 harmed in research at UC Berkeley. For more information: 
 http://www.eastbayanimaladvocates.org\n 
 https://www.indybay.org/newsitems/2005/01/20/54393.php
SUMMARY:UC Berkeley Lab Leafleting
LOCATION:UC Berkeley, Corner of Oxford Street & Berkeley Way, Berkeley
URL:https://www.indybay.org/newsitems/2005/01/20/54393.php
DTSTART:20050126T010000Z
DTEND:20050126T020000Z
END:VEVENT
END:VCALENDAR
