BEGIN:VCALENDAR
VERSION:2.0
X-WR-CALNAME:www.indybay.org
PRODID:-//indybay/ical// v1.0//EN
BEGIN:VEVENT
UID:Indybay-54123
SEQUENCE:54123
CREATED:20041219T091500Z
DESCRIPTION:Don't forget that tomorrow, Sunday December 19th beginning at 5:30 pm and  
 going to midnight and beyond, Musicians for Peace will our concert in 
 support of  a U.S. Department of Peace.   The Groove will feature Fontain's 
 M.U.S.E., Laramie Crocker, Kashi Stone with  Beautiful Destruction and Phil 
 Deal & the Inside/Out Trio.  The program will  begin with a kirtan by Maha 
 Kirtan with Saraswati, Jean & Richard and Mary  Eberspacher will perform a 
 crystal bowl toning and chanting calling the "I Am  Presence" of each 
 person present. There will also be sets by Mokai, Sophia,  Lauren Renee 
 Hotchkiss, Alan Tower, Chris Skyhawk, Marisa Handler, Maria Halyna,  Maria 
 Mango, Roberta Donnay, Danilee DeVere, Jenny Kerr, Alex Walsh, Jack  
 Chernos, Farasha, Essence and others.  Steve Bhaerman, also know as Swami  
 Beyondananda, will do a special comedy routine. Sherry Glaser of Oh My 
 Goddess fame will  be doing a skit called `Activist Mom' that will reflect 
 her involvement in  Breasts not Bombs.  Tickets for the event are $10 
 general admission at door, $8 with butterfly  attire, or $6 with wings.  
 Please join us at Studio Z, 314 11th St, San Francisco, CA  94103  For more 
 information on this event and performers bios, please visit  
 http://www.butterflyspirit.org/DOPeaceParty.htm  \n 
 https://www.indybay.org/newsitems/2004/12/19/54123.php
SUMMARY:Musicians for Peace concert in support of US Dept of Peace
LOCATION:Tickets for the event are $10 general admission at door, $8 with butterfly  
 attire, or $6 with wings.  Please join us at Studio Z, 314 11th St, San 
 Francisco, CA  94103
URL:https://www.indybay.org/newsitems/2004/12/19/54123.php
DTSTART:20041220T013000Z
DTEND:20041220T083000Z
END:VEVENT
END:VCALENDAR
