BEGIN:VCALENDAR
VERSION:2.0
X-WR-CALNAME:www.indybay.org
PRODID:-//indybay/ical// v1.0//EN
BEGIN:VEVENT
UID:Indybay-54063
SEQUENCE:54063
CREATED:20041216T225000Z
DESCRIPTION:The issues and challenges the young face today are significant and complex, 
 and there does not seem to be easy formulas to achieve success, peace, or 
 happiness. Yet, understanding the situation is vital for all who live and 
 interact in the diverse Bay Area. SF University High School presents an 
 original work exclusively by a creative team of young theater artists that 
 examines the heart, mind, body, and soul of the urban landscape.   A 
 diverse group of young people find themselves brought together by a 
 shooting after a recent concert. While they are strangers to one another, 
 they must find ways to put aside their initial reactions and understand 
 each other's backgrounds, talents, and opinions. Along the way, a chorus of 
 reason pulls the audience through the character's dilemmas. Poetry, dance, 
 and music fuse this together to form a play that speaks to the challenges, 
 hopes, and dreams of youth.   Join us for the exciting world premier of THE 
 FUSE: a chain reaction.  \n 
 https://www.indybay.org/newsitems/2004/12/16/54063.php
SUMMARY:THE FUSE: a chain reaction
LOCATION:SF University High School Theater  3150 Washington Street  San Francisco, 
 CA 94115
URL:https://www.indybay.org/newsitems/2004/12/16/54063.php
DTSTART:20050130T033000Z
DTEND:20050130T053000Z
END:VEVENT
END:VCALENDAR
