BEGIN:VCALENDAR
VERSION:2.0
X-WR-CALNAME:www.indybay.org
PRODID:-//indybay/ical// v1.0//EN
BEGIN:VEVENT
UID:Indybay-54033
SEQUENCE:54033
CREATED:20041216T161200Z
DESCRIPTION:- To learn more about your neighbors Muslim  - Who are Amerincan Muslim  - 
 what is Islam?  - Sciences and history   \nFor more info visit: 
 www.sfislamicconvention.org or www.alsabeel.org\n 
 https://www.indybay.org/newsitems/2004/12/16/54033.php
SUMMARY:2nd Annual Islamic convention
LOCATION:the building located on 9th Ave and Lincoln, inside the park (left side)
URL:https://www.indybay.org/newsitems/2004/12/16/54033.php
DTSTART:20041231T180000Z
DTEND:20050104T060000Z
END:VEVENT
END:VCALENDAR
