BEGIN:VCALENDAR
VERSION:2.0
X-WR-CALNAME:www.indybay.org
PRODID:-//indybay/ical// v1.0//EN
BEGIN:VEVENT
UID:Indybay-53873
SEQUENCE:53873
CREATED:20041220T072300Z
DESCRIPTION:Food Not Bombs (Sonoma County), in partnership with the North Bay Chapter 
 of Physicians for Pretzel Safety are calling for community walkouts on 
 January 14th and 20th, 2005.  We are asking everyone, especially students 
 and teachers, to stage walkouts on January 14th, and 20th, to show the 
 world our opposition to Bush, his administration, and specifically his 
 attacks on Education.  Walkout of your respective Schools, offices, and 
 workplaces at 12:15 on Friday, January 14, 2004 in vocal opposition ot the 
 Bush administration, War, and the attacks on the youth throughout this 
 country.  Converge at Courthouse Square for a 1:30 march, Critical Mass, 
 and autonomous Direct Actions.  Enjoy really really free food, music, art, 
 and other fun activities.  \n 
 https://www.indybay.org/newsitems/2004/12/19/53873.php
SUMMARY:Walkout against Bush, for Education
LOCATION:Converge in Santa Rosa's Courthouse Square, downtown. On Mendocino Ave, 
 between 3rd and 4th streets.
URL:https://www.indybay.org/newsitems/2004/12/19/53873.php
DTSTART:20050114T200000Z
DTEND:20050115T000000Z
END:VEVENT
END:VCALENDAR
