BEGIN:VCALENDAR
VERSION:2.0
X-WR-CALNAME:www.indybay.org
PRODID:-//indybay/ical// v1.0//EN
BEGIN:VEVENT
UID:Indybay-53793
SEQUENCE:53793
CREATED:20041211T141500Z
DESCRIPTION:December 11, 2004  News Release					  For more information:   Call John 
 Rowntree, (916) 446-1758  P.O. Box 160406  Sacramento, CA 95816      In 
 Sacramento, Dec. 14 Book Discussion on Liberalism and War  Discuss a book 
 titled The Liberal Virus: Permanent War and the Americanization of the 
 World by Samir Amin on Tues., Dec. 14 in Room 12, Sierra 2 Center, 2791 
 24th St., Sacto.    The Marxist School of Sacramento is the sponsor.  The 
 public is welcome to this free event.  Phone (916) 446-1758.  ###  \n 
 https://www.indybay.org/newsitems/2004/12/11/53793.php
SUMMARY:Sacramento Book Discussion on Liberalism and War
LOCATION:Room 12, Sierra 2 Center, 2791 24th St., Sacto.    
URL:https://www.indybay.org/newsitems/2004/12/11/53793.php
DTSTART:20041215T030000Z
DTEND:20041215T050000Z
END:VEVENT
END:VCALENDAR
