BEGIN:VCALENDAR
VERSION:2.0
X-WR-CALNAME:www.indybay.org
PRODID:-//indybay/ical// v1.0//EN
BEGIN:VEVENT
UID:Indybay-53783
SEQUENCE:53783
CREATED:20041210T215000Z
DESCRIPTION:Found Magazine presents an exhibition of found video. Sublimely absurd VHS 
 casettes found in second-hand stores and sidewalk sales. Other Cinema will 
 also afford a no-host bar and ambient visuals and free CDs! ATA Gallery 992 
 Valencia St 8:30 5$.\n 
 https://www.indybay.org/newsitems/2004/12/10/53783.php
SUMMARY:Found Video Festival
LOCATION:21st and Valencia St
URL:https://www.indybay.org/newsitems/2004/12/10/53783.php
DTSTART:20041212T043000Z
DTEND:20041212T063000Z
END:VEVENT
END:VCALENDAR
