BEGIN:VCALENDAR
VERSION:2.0
X-WR-CALNAME:www.indybay.org
PRODID:-//indybay/ical// v1.0//EN
BEGIN:VEVENT
UID:Indybay-53753
SEQUENCE:53753
CREATED:20041210T174100Z
DESCRIPTION:Outside of Macy's Union Square, advocates will demonstrate against the 
 production of foie gras. Wolfgang Puck, who serves foie gras at his 
 restaurants, is hosting a book-signing at the Express. Vegetarian 'foie 
 gras' will be served to customers.  \n 
 https://www.indybay.org/newsitems/2004/12/10/53753.php
SUMMARY:Foie Gras Feed-In
LOCATION:Wolfgang Puck Express, Macy's Union Square, 170 O'Farrell Street, San 
 Francisco
URL:https://www.indybay.org/newsitems/2004/12/10/53753.php
DTSTART:20041218T200000Z
DTEND:20041218T210000Z
END:VEVENT
END:VCALENDAR
